BEGIN:VCALENDAR
VERSION:2.0
PRODID:-//The Pot - ECPv6.15.20//NONSGML v1.0//EN
CALSCALE:GREGORIAN
METHOD:PUBLISH
X-ORIGINAL-URL:https://www.thepot.se
X-WR-CALDESC:Händelser för The Pot
REFRESH-INTERVAL;VALUE=DURATION:PT1H
X-Robots-Tag:noindex
X-PUBLISHED-TTL:PT1H
BEGIN:VTIMEZONE
TZID:Europe/Stockholm
BEGIN:DAYLIGHT
TZOFFSETFROM:+0100
TZOFFSETTO:+0200
TZNAME:CEST
DTSTART:20250330T010000
END:DAYLIGHT
BEGIN:STANDARD
TZOFFSETFROM:+0200
TZOFFSETTO:+0100
TZNAME:CET
DTSTART:20251026T010000
END:STANDARD
BEGIN:DAYLIGHT
TZOFFSETFROM:+0100
TZOFFSETTO:+0200
TZNAME:CEST
DTSTART:20260329T010000
END:DAYLIGHT
BEGIN:STANDARD
TZOFFSETFROM:+0200
TZOFFSETTO:+0100
TZNAME:CET
DTSTART:20261025T010000
END:STANDARD
BEGIN:DAYLIGHT
TZOFFSETFROM:+0100
TZOFFSETTO:+0200
TZNAME:CEST
DTSTART:20270328T010000
END:DAYLIGHT
BEGIN:STANDARD
TZOFFSETFROM:+0200
TZOFFSETTO:+0100
TZNAME:CET
DTSTART:20271031T010000
END:STANDARD
END:VTIMEZONE
BEGIN:VEVENT
DTSTART;TZID=Europe/Stockholm:20260501T193000
DTEND;TZID=Europe/Stockholm:20260501T210000
DTSTAMP:20260419T193220
CREATED:20260225T131301Z
LAST-MODIFIED:20260225T131913Z
UID:10000464-1777663800-1777669200@www.thepot.se
SUMMARY:Live i Vardagsrummet: Brandkommissarie Nordenhielms firar 40 år\, 1 maj
DESCRIPTION:Det finns band som spelar musik\, och så finns det band som är en del av folksjälen. \nDen 1–2 maj förvandlar vi Live i Vardagsrummet till en minifestival när de lokala legendarerna i Brandkommissarie Nordenhielms Bluesorkester återförenas. Det är dags att fira 40 år av sväng\, vänskap och minnen som sitter i väggarna. \nVissa kvällar handlar om mer än bara musiken. Det handlar om att hitta hem. När ”Brandkommissarien” kliver upp på vår scen är det inte bara en konsert – det är som en familjeträff där publiken och bandet är gamla bekanta. \nFörvänta dig en kväll där taket lyfter av spelglädje och där utrymmet mellan låtarna fylls av 40 års samlade anekdoter. Det blir ”storytelling” på en helt ny nivå – om giggen som spårade ur\, resorna som aldrig tog slut och vänskapen som överlevt allt. \n  \nDatum: 1 maj\nTid: 19:30\nPlats: The Pot Karlskrona \nKöp biljett och läs mer här. \nVälkomna!
URL:https://www.thepot.se/program/live-i-vardagsrummet-brandkommissarie-nordenhielms-firar-40-ar/
LOCATION:The Pot Karlskrona\, Blekingegatan 1\, Karlskrona\, 37157\, Sverige
ATTACH;FMTTYPE=image/jpeg:https://media.thepot.se/2026/02/1920x1080_Brandkommissarien_2026_16x9_Text.jpg
END:VEVENT
BEGIN:VEVENT
DTSTART;TZID=Europe/Stockholm:20260502T193000
DTEND;TZID=Europe/Stockholm:20260502T210000
DTSTAMP:20260419T193220
CREATED:20260225T131847Z
LAST-MODIFIED:20260225T131847Z
UID:10000465-1777750200-1777755600@www.thepot.se
SUMMARY:Live i Vardagsrummet: Brandkommissarie Nordenhielms firar 40 år\, 2 maj
DESCRIPTION:Det finns band som spelar musik\, och så finns det band som är en del av folksjälen. \nDen 1–2 maj förvandlar vi Live i Vardagsrummet till en minifestival när de lokala legendarerna i Brandkommissarie Nordenhielms Bluesorkester återförenas. Det är dags att fira 40 år av sväng\, vänskap och minnen som sitter i väggarna. \nVissa kvällar handlar om mer än bara musiken. Det handlar om att hitta hem. När ”Brandkommissarien” kliver upp på vår scen är det inte bara en konsert – det är som en familjeträff där publiken och bandet är gamla bekanta. \nFörvänta dig en kväll där taket lyfter av spelglädje och där utrymmet mellan låtarna fylls av 40 års samlade anekdoter. Det blir ”storytelling” på en helt ny nivå – om giggen som spårade ur\, resorna som aldrig tog slut och vänskapen som överlevt allt. \n  \nDatum: 2 maj\nTid: 19:30\nPlats: The Pot Karlskrona \nKöp biljett och läs mer här. \nVälkomna!
URL:https://www.thepot.se/program/live-i-vardagsrummet-brandkommissarie-nordenhielms-firar-40-ar-2-maj/
LOCATION:The Pot Karlskrona\, Blekingegatan 1\, Karlskrona\, 37157\, Sverige
ATTACH;FMTTYPE=image/jpeg:https://media.thepot.se/2026/02/1920x1080_Brandkommissarien_2026_16x9_Text.jpg
END:VEVENT
BEGIN:VEVENT
DTSTART;TZID=Europe/Stockholm:20260508T203000
DTEND;TZID=Europe/Stockholm:20260508T220000
DTSTAMP:20260419T193220
CREATED:20260305T083109Z
LAST-MODIFIED:20260305T083109Z
UID:10000473-1778272200-1778277600@www.thepot.se
SUMMARY:Creedence with love\, 8 maj\, Karlshamn
DESCRIPTION:The Pot Karlshamn fortsätter tillsammans med Paraply att presentera konsertkvällar för alla smaker på Östra Piren. Under våren besöker två av Sveriges mest älskade tribute-band konsertsalen Navet. \n8 maj välkomnar vi CREEDENCE with love under ledning av Sticky Bomb från Wilmer X\, och får ryckas med i deras träffsäkra tolkningar av Creedence Clearwater Revivals låtskatt. \nDatum: 8 maj\nTid: 20:30\nPlats: The Pot Karlshamn\, Navet \nKöp biljett här och läs mer!
URL:https://www.thepot.se/program/creedence-with-love-8-maj-karlshamn/
LOCATION:The Pot Karlshamn\, Pirgatan 6\, Karlshamn\, 37438\, Sverige
ATTACH;FMTTYPE=image/png:https://media.thepot.se/2026/03/1920x1080_Creedence_v2.png
END:VEVENT
BEGIN:VEVENT
DTSTART;TZID=Europe/Stockholm:20260521T080000
DTEND;TZID=Europe/Stockholm:20260521T084500
DTSTAMP:20260419T193220
CREATED:20260324T143219Z
LAST-MODIFIED:20260407T112635Z
UID:10000475-1779350400-1779353100@www.thepot.se
SUMMARY:Torsdags-Talk med Lennart Johansson AX\, 21 maj\, Karlshamn
DESCRIPTION:The Pot och Gilla Karlshamn kör talks med intressanta personer från Karlshamn. \nStarta morgonen med 20 min frukost följt av 20 min Talk.\nNätverka en stund och få en energiboost före jobbet.\nFrukost från 08:00. Talk från 08:20. Vi avslutar 08:45.\nEvenemanget är kostnadsfritt men anmälan här krävs. \nTorsdags-Gäst denna gång: Lennart Johansson AX från Segelsällskapet.\nI augusti år anordnar Karlshamns Segelsällskap ett svenskt mästerskap för den populära klassen 606:or med 30–40 segelbåtar på vattnet utanför Karlshamn. Regattans projektledare Lennart Johansson-Ax bjuder på en inblick i arbetet bakom kulisserna – från planering och volontärinsatser till oväntade incidenter och minnesvärda anekdoter. Vi blickar tillbaka på SM 2021 och 2022 och landar i den lätt kaotiska\, men hjärtevärmande avslutningsseglingen där arton internationella ungdomar som aldrig tidigare seglat tar sig runt en kryss-länsbana.\n \n\nPlats: The Pot Karlshamn\, Plan 4\, Östra Piren\nDatum: 21 maj 2026\, kl 8:00 \n\n\n\n\n\nKostnadsfritt men anmälan krävs. Läs mer och anmälan dig här! \n\nVälkomna!
URL:https://www.thepot.se/program/torsdags-talk-med-lennart-johansson-ax-21-maj-karlshamn/
LOCATION:The Pot Karlshamn\, Pirgatan 6\, Karlshamn\, 37438\, Sverige
ATTACH;FMTTYPE=image/png:https://media.thepot.se/2026/03/1920x1080_Torsdagstalk_ole.png
END:VEVENT
END:VCALENDAR