BEGIN:VCALENDAR
VERSION:2.0
PRODID:-//The Pot - ECPv6.15.20//NONSGML v1.0//EN
CALSCALE:GREGORIAN
METHOD:PUBLISH
X-ORIGINAL-URL:https://www.thepot.se
X-WR-CALDESC:Händelser för The Pot
REFRESH-INTERVAL;VALUE=DURATION:PT1H
X-Robots-Tag:noindex
X-PUBLISHED-TTL:PT1H
BEGIN:VTIMEZONE
TZID:Europe/Stockholm
BEGIN:DAYLIGHT
TZOFFSETFROM:+0100
TZOFFSETTO:+0200
TZNAME:CEST
DTSTART:20250330T010000
END:DAYLIGHT
BEGIN:STANDARD
TZOFFSETFROM:+0200
TZOFFSETTO:+0100
TZNAME:CET
DTSTART:20251026T010000
END:STANDARD
BEGIN:DAYLIGHT
TZOFFSETFROM:+0100
TZOFFSETTO:+0200
TZNAME:CEST
DTSTART:20260329T010000
END:DAYLIGHT
BEGIN:STANDARD
TZOFFSETFROM:+0200
TZOFFSETTO:+0100
TZNAME:CET
DTSTART:20261025T010000
END:STANDARD
BEGIN:DAYLIGHT
TZOFFSETFROM:+0100
TZOFFSETTO:+0200
TZNAME:CEST
DTSTART:20270328T010000
END:DAYLIGHT
BEGIN:STANDARD
TZOFFSETFROM:+0200
TZOFFSETTO:+0100
TZNAME:CET
DTSTART:20271031T010000
END:STANDARD
END:VTIMEZONE
BEGIN:VEVENT
DTSTART;TZID=Europe/Stockholm:20260312T103000
DTEND;TZID=Europe/Stockholm:20260312T130000
DTSTAMP:20260421T142234
CREATED:20260302T085056Z
LAST-MODIFIED:20260302T091822Z
UID:10000467-1773311400-1773320400@www.thepot.se
SUMMARY:Future Lab\, March 12
DESCRIPTION:Welcome to Future Lab at The Pot Karlskrona\nIn a time of rapid change\, increasing complexity and major societal challenges\, our ability to think long term\, act innovatively and co create has never been more important. \nWe will meet on several occasions this spring at the following times and locations: \n\n12 March\, 10:30-12:00\n26 March\, 10:30-12:00\n2 April\, 10:30-12:00\n16 April\, 10:30-12:00\n\n\nLunch 12- 13 (You need to be on the full workshop to be invited for lunch)\n\nSpaces are limited so register now.\nThe event is free but registration is required. \nThe sessions will be held in English. \nYou are welcome to participate\, contribute and help shape the future together. \nRead more here!
URL:https://www.thepot.se/program/future-lab-12-march/
LOCATION:The Pot Karlskrona\, Blekingegatan 1\, Karlskrona\, 37157\, Sverige
ATTACH;FMTTYPE=image/jpeg:https://media.thepot.se/2026/03/26-Februari-Presentation.jpg
END:VEVENT
BEGIN:VEVENT
DTSTART;TZID=Europe/Stockholm:20260312T160000
DTEND;TZID=Europe/Stockholm:20260312T180000
DTSTAMP:20260421T142234
CREATED:20260122T141225Z
LAST-MODIFIED:20260122T142456Z
UID:10000451-1773331200-1773338400@www.thepot.se
SUMMARY:Yoga & AW: Avsluta arbetsdagen med en energiboost\, 12 mars
DESCRIPTION:Avsluta dagen med en unik upplevelse som kombinerar avkoppling\, energi och inspirerande nya möten. Denna exklusiva upplevelse äger rum i The Pots unika konsertlokal\, Navet\, där ett begränsat antal platser skapar en personlig och inbjudande atmosfär. Boka din plats redan nu för att säkra en plats till denna oförglömliga eftermiddag! \nMjuk yoga för alla nivåer: En stärkande klass för att minska stress\, fylla på med energi och landa i nuet. \nSound Healing: Slappna av till vibrationerna från kristallskålar som skapar balans och inre lugn. \nHälsosamt avslut på dagen: Vi kör en hälsosam afterwork som avrunda dagen på allra bästa sättet. Njut av godsakerna och ett härligt sällskap.  \nNätverkande och nya möten: Ta chansen att träffa andra inspirerande människor i en avslappnad miljö. Oavsett om du är entreprenör\, företagare eller privatperson erbjuder denna stund en möjlighet att dela idéer\, få nya perspektiv och knyta värdefulla kontakter. Vem vet vilka samarbeten eller nya insikter som kan växa fram? \nOm Ann-Sofi Ingemansson: Jag är legitimerad sjuksköterska och yogainstruktör samt driver hälsoföretaget Ayurveda och Balance i Karlshamn. Med lång erfarenhet och en passion för att guida människor till ökat välmående erbjuder jag enkla och effektiva verktyg för balans och energi. Jag brinner för att skapa en atmosfär där välmående och inspiration får växa naturligt\, där människor kan finna inre balans och verkligen njuta av livet. \nDatum: Tors 12 mars\nTid: 16.00-17.00 Yoga\, 17.00-18.00 Afterwork\nPlats: Navet\, The Pot\, Östra Piren\, Karlshamn\nPris: 295:- \nBetalning vid anmälan genom swish.\nAnmälan och uppgifter om eventuell specialkost anmäler du här! \nYogamatta och utrustning finns på plats\, så du behöver bara komma i bekväma kläder. \nGe dig själv en eftermiddag som ger både närvaro och inspiration resten av veckan. \nVälkommen att vara med och skapa något nytt! \nVarmt välkommen!
URL:https://www.thepot.se/program/yoga-aw-avsluta-arbetsdagen-med-en-energiboost-12-mars/
LOCATION:The Pot Karlshamn\, Pirgatan 6\, Karlshamn\, 37438\, Sverige
ATTACH;FMTTYPE=image/png:https://media.thepot.se/2026/01/1920x1080_SoMe_Yoga_260312_Hemsida.png
END:VEVENT
BEGIN:VEVENT
DTSTART;TZID=Europe/Stockholm:20260314T200000
DTEND;TZID=Europe/Stockholm:20260314T213000
DTSTAMP:20260421T142234
CREATED:20260226T073545Z
LAST-MODIFIED:20260226T073602Z
UID:10000466-1773518400-1773523800@www.thepot.se
SUMMARY:Blekingeflabbet 2.0\, Karlskrona\, 14 mars
DESCRIPTION:Lördagen 14 mars är det dags för andra upplagan av hela Blekinges ambulerande stand up-klubb som denna gång besöker Karlskrona och The Pot. Kvällen presenteras av Blekinges komikerstjärnskott nummer 1\, Gazze Althén. Gazzes stil präglas av självironi och pikar till publiken där ingen sitter säker! Under kvällen kastas vi sedan mellan fyra andra komikers uttryck och stilar: \nJohannes Finnlaugsson\nCamilla Jonasson\nAdam Elgström\nMoa von Zeipel\nGazze Althén \nDatum: 14 mars\nTid: 20:00\nPlats: The Pot Karlskrona \nLäs mer och köp biljett här! \nVälkomna!
URL:https://www.thepot.se/program/blekingeflabbet-2-0-karlskrona-14-mars/
LOCATION:The Pot Karlskrona\, Blekingegatan 1\, Karlskrona\, 37157\, Sverige
ATTACH;FMTTYPE=image/jpeg:https://media.thepot.se/2026/02/1920x1080_SoMe_Blekingeflabbet_2026_1.jpg
END:VEVENT
BEGIN:VEVENT
DTSTART;TZID=Europe/Stockholm:20260319T080000
DTEND;TZID=Europe/Stockholm:20260319T084500
DTSTAMP:20260421T142234
CREATED:20260304T154632Z
LAST-MODIFIED:20260304T154632Z
UID:10000471-1773907200-1773909900@www.thepot.se
SUMMARY:Torsdags-Talk med Ville Löfgren\, 19 mars\, Karlshamn
DESCRIPTION:The Pot och Gilla Karlshamn kör talks med intressanta personer från Karlshamn.\nStarta morgonen med 20 min frukost följt av 20 min Talk.\nNätverka en stund och få en energiboost före jobbet.\nFrukost från 08:00. Talk från 08:20. Vi avslutar 08:45.\nEvenemanget är kostnadsfritt men anmälan här krävs. \nTorsdags-Gäst denna gång: Ville Löfgren \n\nPlats: The Pot Karlshamn\, Plan 4\, Östra Piren\nDatum: 19 mars 2026\, kl 8:00 \n\n\n\n\n\nKostnadsfritt men anmälan krävs. Anmäl dig här och läs mer! \n\nVälkomna!
URL:https://www.thepot.se/program/torsdags-talk-med-ville-lofgren-19-mars-karlshamn/
LOCATION:The Pot Karlshamn\, Pirgatan 6\, Karlshamn\, 37438\, Sverige
ATTACH;FMTTYPE=image/png:https://media.thepot.se/2026/03/1920x1080_Torsdagstalk.png
END:VEVENT
BEGIN:VEVENT
DTSTART;TZID=Europe/Stockholm:20260321T193000
DTEND;TZID=Europe/Stockholm:20260321T210000
DTSTAMP:20260421T142234
CREATED:20251113T134121Z
LAST-MODIFIED:20251126T143640Z
UID:10000448-1774121400-1774126800@www.thepot.se
SUMMARY:Emil Gittansson Jensen\, Karlshamn
DESCRIPTION:Emil Gittansson Jensen är tillbaka med en ny föreställning våren 2026\nVi måste hålla kontakten – en föreställning om vänskap av och med Emil Gittansson Jensen. \nDen prisbelönte artisten och poeten är tillbaka med en ny föreställning och turné genom Sverige.Med sin helt unika blandning av musik och tal\, humor och allvar\, personligt och globalt\, gjuter Emil mod och kraft i sin samtid. \n”Föreställningen kretsar kring temat vänskap som fenomen. Denna så undervärderade relation\, livsnödvändig för oss som människodjur och grunden för all solidaritet”\, säger han själv om temat. \nGenom att vända och vrida på begreppen med hjälp av en gammal overheadapparat\, genom trollbindande musik och brandtal\, och inte minst genom sina djupt personliga berättelser\, lämnar Emil ingen oberörd. Den röda vänskapstråden innefattar allt från historisk tillbakablick till framtidsspaningar\, men det handlar också om ensamhet och vår tids extremindividualism. \nLäs mer och köp biljett här!
URL:https://www.thepot.se/program/emil-gittansson-jensen-karlshamn/
LOCATION:The Pot Karlshamn\, Pirgatan 6\, Karlshamn\, 37438\, Sverige
ATTACH;FMTTYPE=image/jpeg:https://media.thepot.se/2025/11/Namnlos-design-1-1.jpg
END:VEVENT
BEGIN:VEVENT
DTSTART;TZID=Europe/Stockholm:20260326T103000
DTEND;TZID=Europe/Stockholm:20260326T130000
DTSTAMP:20260421T142234
CREATED:20260302T105228Z
LAST-MODIFIED:20260302T105228Z
UID:10000468-1774521000-1774530000@www.thepot.se
SUMMARY:Future Lab\, March 26
DESCRIPTION:Welcome to Future Lab at The Pot Karlskrona\nIn a time of rapid change\, increasing complexity and major societal challenges\, our ability to think long term\, act innovatively and co create has never been more important. \nWe will meet on several occasions this spring at the following times and locations: \n\n26 March\, 10:30-12:00\n2 April\, 10:30-12:00\n16 April\, 10:30-12:00\n\n\nLunch 12- 13 (You need to be on the full workshop to be invited for lunch)\n\nSpaces are limited so register now.\nThe event is free but registration is required. \nThe sessions will be held in English. \nYou are welcome to participate\, contribute and help shape the future together. \nRead more here!
URL:https://www.thepot.se/program/future-lab-march-26/
LOCATION:The Pot Karlskrona\, Blekingegatan 1\, Karlskrona\, 37157\, Sverige
ATTACH;FMTTYPE=image/jpeg:https://media.thepot.se/2026/03/26-Februari-Presentation.jpg
END:VEVENT
BEGIN:VEVENT
DTSTART;TZID=Europe/Stockholm:20260327T193000
DTEND;TZID=Europe/Stockholm:20260327T210000
DTSTAMP:20260421T142234
CREATED:20260123T102931Z
LAST-MODIFIED:20260123T102931Z
UID:10000458-1774639800-1774645200@www.thepot.se
SUMMARY:Live i Vardagsrummet - Lovisa Birgersson
DESCRIPTION:Lovisa Birgersson\, med rötterna i Emmaboda\, har ena foten i soulen och den andra i americana. Med ett eget och tidlöst uttryck skapar hon musik som präglas av närvaro\, berättande och känsla. Utöver sin solokarriär har hon etablerat sig som en självklar musiker bakom artister som Sarah Klang\, Viagra Boys och Thomas Stenström. \nDatum: 27 mars\nTid: 19.30\nPlats: The Pot Karlskrona \nLäs mer och köp biljett här!
URL:https://www.thepot.se/program/live-i-vardagsrummet-lovisa-birgersson/
LOCATION:The Pot Karlskrona\, Blekingegatan 1\, Karlskrona\, 37157\, Sverige
ATTACH;FMTTYPE=image/jpeg:https://media.thepot.se/2026/01/1920x1080_Lovisa_2026_16x9_Text.jpg
END:VEVENT
BEGIN:VEVENT
DTSTART;TZID=Europe/Stockholm:20260328T160000
DTEND;TZID=Europe/Stockholm:20260328T235900
DTSTAMP:20260421T142234
CREATED:20260206T115717Z
LAST-MODIFIED:20260324T142540Z
UID:10000461-1774713600-1774742340@www.thepot.se
SUMMARY:Karlshamns Näringslivsgala\, 28 mars\, Östra Piren
DESCRIPTION:Gilla Karlshamngalan\nDen 28 mars 2026 är det äntligen dags igen att klä upp sig\, fira och hylla alla fantastiska företagare\, eldsjälar och kreatörer som gör Karlshamn levande. Prisutdelning i Navet och galamiddag i deltat. Allt på Östra Piren! \nAlla är välkomna till denna kväll när vi både hyllar nominerade\, vinnare\, eldsjälar och Karlshamns kulturliv. \n  \nOm Galakvällen: \nMingel med utsikt över staden & hamninloppet\n16:00 startar vi med mingel\, bubbel och snittar i foajén. Samt givetvis foto på röda mattan! \nPrisutdelning i Navet\n17:00 startar prisutdelningen inne i Navet\, Karlshamns fantastiska upplevelsearena med full fokus på priser\, pristagare och artisterna. Professionellt liveband på scenen\, artister som glänser och många överraskningar. \nGalamiddag i Deltat\nCa 19:00 Efterföljande middag i deltat. Mera mingel\, glada vinnare\, en fantastisk middag från Italii och mer underhållning! Efterfest med partyband i samma lokal! \nLäs mer och köp biljett här!
URL:https://www.thepot.se/program/karlshamns-naringslivgala-28-mars-ostra-piren/
LOCATION:The Pot Karlshamn\, Pirgatan 6\, Karlshamn\, 37438\, Sverige
ATTACH;FMTTYPE=image/png:https://media.thepot.se/2026/02/1920x1080_Gillar_Karlshamn.png
END:VEVENT
END:VCALENDAR