BEGIN:VCALENDAR
VERSION:2.0
PRODID:-//The Pot - ECPv6.15.20//NONSGML v1.0//EN
CALSCALE:GREGORIAN
METHOD:PUBLISH
X-WR-CALNAME:The Pot
X-ORIGINAL-URL:https://www.thepot.se
X-WR-CALDESC:Händelser för The Pot
REFRESH-INTERVAL;VALUE=DURATION:PT1H
X-Robots-Tag:noindex
X-PUBLISHED-TTL:PT1H
BEGIN:VTIMEZONE
TZID:Europe/Stockholm
BEGIN:DAYLIGHT
TZOFFSETFROM:+0100
TZOFFSETTO:+0200
TZNAME:CEST
DTSTART:20250330T010000
END:DAYLIGHT
BEGIN:STANDARD
TZOFFSETFROM:+0200
TZOFFSETTO:+0100
TZNAME:CET
DTSTART:20251026T010000
END:STANDARD
BEGIN:DAYLIGHT
TZOFFSETFROM:+0100
TZOFFSETTO:+0200
TZNAME:CEST
DTSTART:20260329T010000
END:DAYLIGHT
BEGIN:STANDARD
TZOFFSETFROM:+0200
TZOFFSETTO:+0100
TZNAME:CET
DTSTART:20261025T010000
END:STANDARD
BEGIN:DAYLIGHT
TZOFFSETFROM:+0100
TZOFFSETTO:+0200
TZNAME:CEST
DTSTART:20270328T010000
END:DAYLIGHT
BEGIN:STANDARD
TZOFFSETFROM:+0200
TZOFFSETTO:+0100
TZNAME:CET
DTSTART:20271031T010000
END:STANDARD
END:VTIMEZONE
BEGIN:VEVENT
DTSTART;TZID=Europe/Stockholm:20260122T073000
DTEND;TZID=Europe/Stockholm:20260122T093000
DTSTAMP:20260425T140718
CREATED:20251210T073031Z
LAST-MODIFIED:20251210T073405Z
UID:10000450-1769067000-1769074200@www.thepot.se
SUMMARY:Frukostmöte – Blekinges konkurrenskraft med Lena Sellgren och Johan Eklund
DESCRIPTION:Välkommen på frukostmöte om Blekinges framtida konkurrenskraft \nBlekinge är ett av Sveriges mest exportintensiva län – här finns företag med stark internationell närvaro\, innovationskraft och vilja att växa. Samtidigt står regionen inför avgörande utmaningar: tillgång till el och energi\, fungerande infrastruktur\, attraktiva etableringsmiljöer och möjligheten att locka den kompetens som krävs för att möta framtidens behov. \nVad kan vi tillsammans göra för att stärka Blekinges ekonomiska utveckling\, konkurrenskraft och långsiktiga välstånd? \nTalare:\nLena Sellgren\, chefsekonom och en av Sveriges ledande experter på global konkurrenskraft och företagens utvecklingsförutsättningar. Hon ger en aktuell omvärldsanalys och lyfter konkreta faktorer som påverkar Blekinges möjligheter att växa. Lena är även medlem i Dagens Industris skuggdirektion till Riksbanken. \nJohan Eklund\, är sedan 1 juni 2025 VD på för Sydsvenska Industri- och Handelskammaren. Johan är professor i nationalekonomi vid Internationella Handelshögskolan i Jönköping och professor i industriell ekonomi vid Blekinge Tekniska Högskola (BTH). \nHan har även en forskarbakgrund och har forskat vid Ratio samt varit gästforskare vid George Mason University. Johan Eklund är ledamot i Kungliga Ingenjörsvetenskapsakademien (IVA) och engagerad i flera forsknings- och policyinriktade organisationer. Hans forskningsintressen spänner över ekonomisk politik\, entreprenörskap\, regleringsfrågor och hur regioner kan skapa konkurrenskraft genom långsiktiga struktursatsningar. \nVi bjuder på frukost från kl. 08:00\, följt av presentationer och ett öppet samtal om vilka satsningar och samarbeten som kan göra störst skillnad för Blekinges framtid. \nLäs mer och anmäl dig här! \nDatum: 22 januari 2026\nTid: 07:30 – 09:30\nPlats: The Pot\, Blekingegatan 1\,  Karlskrona \nPris: Kostnadsfritt – öppet för alla\nAnmälan är bindande\, men platsen kan överlåtas.\n \nSista anmälningsdag är den 19 januari.\nUtebliven närvaro vid kostnadsfritt event debiteras 300kr. \nVarmt välkommen! \nJohan Schörling\, Handelskammaren
URL:https://www.thepot.se/program/frukostmote-blekinges-konkurrenskraft-med-lena-sellgren-och-johan-eklund/
LOCATION:The Pot Karlskrona\, Blekingegatan 1\, Karlskrona\, 37157\, Sverige
ATTACH;FMTTYPE=image/jpeg:https://media.thepot.se/2025/12/Frukostmote-Blekinge-e1763547520717.jpg
END:VEVENT
BEGIN:VEVENT
DTSTART;TZID=Europe/Stockholm:20260127T110000
DTEND;TZID=Europe/Stockholm:20260127T130000
DTSTAMP:20260425T140718
CREATED:20260122T150302Z
LAST-MODIFIED:20260122T152253Z
UID:10000454-1769511600-1769518800@www.thepot.se
SUMMARY:Kemboxen\, 27 jan\, kl 11-13\, Karlshamn
DESCRIPTION:The Pot presenterar:\nPop up event med Kemboxen! \nTitta förbi och lämna in din kemtvätt direkt till oss\, vi tar emot både kläder och hemtextilier. \nDatum: 27 jan\nTid: kl 11-13\nPlats: The Pot Karlshamn (våning 4 i Emigranten)
URL:https://www.thepot.se/program/kemboxen-27-jan-kl-11-13-karlshamn/
LOCATION:The Pot Karlshamn\, Pirgatan 6\, Karlshamn\, 37438\, Sverige
ATTACH;FMTTYPE=image/png:https://media.thepot.se/2026/01/1920x1080_Kemboxen.png
END:VEVENT
END:VCALENDAR