BEGIN:VCALENDAR
VERSION:2.0
PRODID:-//The Pot - ECPv6.15.20//NONSGML v1.0//EN
CALSCALE:GREGORIAN
METHOD:PUBLISH
X-ORIGINAL-URL:https://www.thepot.se
X-WR-CALDESC:Händelser för The Pot
REFRESH-INTERVAL;VALUE=DURATION:PT1H
X-Robots-Tag:noindex
X-PUBLISHED-TTL:PT1H
BEGIN:VTIMEZONE
TZID:Europe/Stockholm
BEGIN:DAYLIGHT
TZOFFSETFROM:+0100
TZOFFSETTO:+0200
TZNAME:CEST
DTSTART:20240331T010000
END:DAYLIGHT
BEGIN:STANDARD
TZOFFSETFROM:+0200
TZOFFSETTO:+0100
TZNAME:CET
DTSTART:20241027T010000
END:STANDARD
BEGIN:DAYLIGHT
TZOFFSETFROM:+0100
TZOFFSETTO:+0200
TZNAME:CEST
DTSTART:20250330T010000
END:DAYLIGHT
BEGIN:STANDARD
TZOFFSETFROM:+0200
TZOFFSETTO:+0100
TZNAME:CET
DTSTART:20251026T010000
END:STANDARD
BEGIN:DAYLIGHT
TZOFFSETFROM:+0100
TZOFFSETTO:+0200
TZNAME:CEST
DTSTART:20260329T010000
END:DAYLIGHT
BEGIN:STANDARD
TZOFFSETFROM:+0200
TZOFFSETTO:+0100
TZNAME:CET
DTSTART:20261025T010000
END:STANDARD
END:VTIMEZONE
BEGIN:VEVENT
DTSTART;TZID=Europe/Stockholm:20250202T150000
DTEND;TZID=Europe/Stockholm:20250202T164500
DTSTAMP:20260425T160230
CREATED:20250102T144825Z
LAST-MODIFIED:20250107T125209Z
UID:10000230-1738508400-1738514700@www.thepot.se
SUMMARY:Föreläsning: Tystnad- värdet av att minska bruset - med hälsoprofil\, författare och yogiraj Ulrica Norberg
DESCRIPTION:Vardagens buller är sex gånger högre idag än för ett sekel sedan. De starkt ökade ljud- och ljusföroreningarna orsakar onödig stress och emotionell obalans. \nI en alltmer brusig och reaktiv värld måste vi börja inse vikten av att ta värdefulla pauser. Forskare visar att vi mår bättre av att lyssna på tystnad.\nAtt det ökar celltillväxt\, stärker hjärnan\, ökar emotionell intelligens samt minskar stress\, spänningar och hjärtsjukdomar. Vi är fler som söker oss till tysta retreat för att lyssna på vårt inre\, skingra distraktion och sätta oss i kontakt med nya idéer som vi inte haft tidigare. \nMöt Ulrica Norberg\, yoga- och meditationslärare\, journalist och bästsäljande författare  i en inspirerande föreläsning om sin bok ”Tystnad: värdet av att minska bruset”. Ulrica delar med sig av sin egen resa mot självinsikt och återhämtning. \nDu köper din biljett till föreläsningen via Nortic. Pris 250 kr.  Klicka in här! \n\nHållpunkter för dagen:\nKl.15.00-16.00 Föreläsning ” Tystnad – värdet av att minska bruset”  – Navet\, The Pot. Östra Piren Karlshamn.\nKl.16.00- 16.45  Mingel och möjlighet att köp Ulricas bok och få den signerad\nModerator: Petra Nilsson\, MasterYogaSweden\n\nVälkommen till ett hälsosamt 2025!
URL:https://www.thepot.se/program/forelasning-tystnad-vardet-av-att-minska-brisket-med-halsoprofil-forfattare-och-yogiraj-ulrica-norberg/
LOCATION:The Pot Karlshamn\, Pirgatan 6\, Karlshamn\, 37438\, Sverige
ATTACH;FMTTYPE=image/png:https://media.thepot.se/2025/01/1920x1080_Ulrika_Nordberg.png
END:VEVENT
BEGIN:VEVENT
DTSTART;TZID=Europe/Stockholm:20250205T160000
DTEND;TZID=Europe/Stockholm:20250205T173000
DTSTAMP:20260425T160230
CREATED:20250128T080843Z
LAST-MODIFIED:20250128T081242Z
UID:10000236-1738771200-1738776600@www.thepot.se
SUMMARY:Från lokal låda till global världsbyrå - Johan Eghammer
DESCRIPTION:Efter tre decennier i framkant av marknadsföringsvärlden vet han vad det innebär att visa vägen. \n\n\n\n\nJohan Eghammer från Olofström var kreatör och delägare på reklambyrån Forsman & Bodenfors i nästan 30 år. Under de åren gick de från att vara en lokal angelägenhet i Göteborg till att bli Sveriges i särklass bästa byrå\, med uppdragsgivare som Volvo\, IKEA\, Oatly\, Tele2\, Polestar och Visit Sweden. \nForsman & Bodenfors blev utsedda till en av decenniets mest kreativa reklambyråer 2010-2020\, av Cannes Lions International Festival of Creativity och har sedan dess hunnit med att öppna kontor i både New York\, London och Singapore. \nJohan kommer att dela med sig av sina insikter\, erfarenheter och lärdomar från tiden på byrån. Som att rädsla är kreativitetens största fiende. Att det alltid är en god idé att göra tvärtom. Och att myten om det ensamma geniet bara är en myt. \nJohan Eghammer\nJohan Eghammer är en kreativ kraft att räkna med. Under sin imponerande karriär på Forsman & Bodenfors har Johan haft flera nyckelpositioner som Global Creative Lead\, VD och Art director. Med bas i både Stockholm och New York har han lett stora kampanjer för globala varumärken som Volvo\, P&G\, LG och Oatly. \nNu återvänder Johan Eghammer till sina blekingska hemtrakter som huvudföreläsare på Show the Way\, redo att dela sina viktigaste lärdomar och tips om hur man lyfter ett varumärke till nya höjder. \nVAR? Navet Östra Piren\, Pirgatan 6\, Karlshamn\nNÄR? 5 februari\, 16.00 – 17.30 \nLäs mer och anmäl dig här! \nArrangör: Way\, i samarbete med Företagarna
URL:https://www.thepot.se/program/fran-lokal-lada-till-global-varldsbyra/
LOCATION:The Pot Karlshamn\, Pirgatan 6\, Karlshamn\, 37438\, Sverige
ATTACH;FMTTYPE=image/jpeg:https://media.thepot.se/2025/01/1920x1080_Johan_Eghammer.jpg
END:VEVENT
BEGIN:VEVENT
DTSTART;TZID=Europe/Stockholm:20250205T180000
DTEND;TZID=Europe/Stockholm:20250205T200000
DTSTAMP:20260425T160230
CREATED:20250128T091422Z
LAST-MODIFIED:20250128T091422Z
UID:10000237-1738778400-1738785600@www.thepot.se
SUMMARY:Bra idrott för alla - en kväll full av inspiration och gemenskap
DESCRIPTION:Vill du vara med och skapa en idrott där alla känner sig välkomna? Nu har du chansen att delta i mötesplatsen Bra idrott för alla – en inspirerande kväll med föreläsning av Carolina Klüft och engagerande samtal om idrottens framtid. Delta på The Pot i Karlskrona eller andra platser runt om i Blekinge\, njut av gofika och diskussioner med andra. Tillsammans skapar vi en idrott där fler kan vara med – hela livet! \nTid: Onsdag 5 februari\, kl 18.00-20.00\nPlats: The Pot Karlskrona (studio) eller från olika platser i Blekinge:\nKarlskrona Idrotts- och Fritidscenter\, Ronneby (lokal meddelas senare)\, Karlshamn Fightcenter\, Karlshamns Golfklubb\, Kulturhuset Olofström\, Sölvesborg (plats meddelas senare). \nPå samtliga dessa platser bjuds det på gofika och personal från RF-SISU Blekinge finns på plats. \nDu kan också välja att delta digitalt från plats som du själv väljer. \nInnehåll\nVill du vara med och göra idrotten bättre för alla? Idrotten är en plats där vi har kul\, träffar vänner och utmanar oss själva. Det är här vi kan testa våra gränser\, utvecklas och känna stolthet över vad vi kan åstadkomma – både som individer och i tillsammans. \nMen hur kan vi skapa en idrott där alla känner sig välkomna och får chansen att vara med\, oavsett vem man är eller vad man vill uppnå? Hur gör vi det enklare att börja idrotta\, stanna kvar och ha kul hela livet? \nPå mötesplatsen Bra idrott för alla får du vara med och prata om vad som är viktigt för dig i idrotten\, och hur vi kan göra idrotten ännu bättre – för dig och alla andra! \n\nInspirationsföreläsning med Carolina Klüft\nWorkshop där vi tillsammans identifierar behov och lösningar för att skapa bra idrott för alla\nGofika på The Pot och övriga fysiska platser\n\n  \nInspiratörer:\nCarolina Klüft\, en av Sveriges främsta friidrottare genom tiderna som efter sin idrottskarriär engagerat sig i frågor kring folkhälsa\, inkludering och ungas välmående genom idrott och rörelse. Medverkar digitalt. \nTobias Karlsson\, handbollsprofil och före detta landslagskapten\, med ett starkt ledarskap på och utanför planen. Stort engagemang kring inkludering\, värdegrund och hållbart ledarskap inom idrotten. Aktuell under våren i ”Mästarnas mästare”. Medverkar från The Pot i Karlskrona och som inledare i workshop till alla platser. \nThomas ”Totto” Heiderup\, kickboxare med en lång karriär av nationella och internationella titlar. Efter att ha avslutat sin aktiva karriär har han fortsatt engagera sig inom kampsporten som personlig tränare och coach – med inkludering och folkhälsa som ledstjärnor. Aktuell under våren i ”Mästarnas mästare”. Medverkar från The Pot i Karlskrona och som inledare i workshop till alla platser. \n  \nVem är det här för?\nVi välkomnar alla som är intresserade av idrottens utveckling – oavsett om du är aktiv\, ledare\, förälder eller helt enkelt nyfiken. Du behöver inte vara medlem i en idrottsförening idag. Alla åldrar är välkomna och det finns frågeställningar anpassade för alla. \nMötesplatsen är en del av Idrottsveckan i Blekinge 2025\, som arrangeras av RF-SISU Blekinge med samarbetspartners. \n  \nDeltagandet är kostnadsfritt. \nAnmäl dig senast 2 februari.\nLäs mer och anmäl dig här! \nArrangör: RF-SISU Blekinge med samarbetspartners
URL:https://www.thepot.se/program/bra-idrott-for-alla-en-kvall-full-av-inspiration-och-gemenskap/
LOCATION:The Pot Karlskrona\, Blekingegatan 1\, Karlskrona\, 37157\, Sverige
ATTACH;FMTTYPE=image/jpeg:https://media.thepot.se/2025/01/474667026_18043784258458450_7246640882879121160_n.jpg
END:VEVENT
BEGIN:VEVENT
DTSTART;TZID=Europe/Stockholm:20250206T160000
DTEND;TZID=Europe/Stockholm:20250206T200000
DTSTAMP:20260425T160230
CREATED:20250123T094000Z
LAST-MODIFIED:20250203T141726Z
UID:10000232-1738857600-1738872000@www.thepot.se
SUMMARY:Afterwork at The Pot Karlskrona\, Feb 6
DESCRIPTION:Kom och fira med oss! Vår foajé är som vanligt fyllt med musik\, flipperspel\, pingis och mycket annat. \nStudenter\, glöm inte era studentlegitimationer för ännu mer kärlek i baren. \nTa med din bästa vän\, kollega eller sambo för en riktigt trevlig kväll! Hoppas vi ses där! \n 
URL:https://www.thepot.se/program/afterwork-at-the-pot-karlskrona-feb-6/
LOCATION:The Pot Karlskrona\, Blekingegatan 1\, Karlskrona\, 37157\, Sverige
ATTACH;FMTTYPE=image/jpeg:https://media.thepot.se/2024/08/1920x1080_AW_Hemsida_2024.jpg
END:VEVENT
BEGIN:VEVENT
DTSTART;TZID=Europe/Stockholm:20250213T074500
DTEND;TZID=Europe/Stockholm:20250213T090000
DTSTAMP:20260425T160230
CREATED:20250128T131252Z
LAST-MODIFIED:20250128T142625Z
UID:10000238-1739432700-1739437200@www.thepot.se
SUMMARY:Experience at The Pot presenterar Diane Emerita! Karlskrona kl 8.30
DESCRIPTION:13 februari har vi den fantastiska möjligheten att erbjuda en exklusiv konsertupplevelse med en av morgondagens världsstjärnor – Diane Emerita. \nTillsammans med vännerna på bokningsbolaget Luger presenterar vi två möjligheter att kostnadsfritt uppleva Diane i ett avskalat format på både The Pot i Karlskrona och på The Pot i Karlshamn den 13 februari. \nDessutom passar vi på att bjuda på frukost i samband med konserten – det blir helt enkelt ett perfekt tillfälle att ladda batterierna\, inspireras och uppleva en fantastisk konsert\, mitt i vardagen. \nDatum: 13 februari\nTid: kl 08.30 (frukost 07.45)\nPlats: The Pot Karlskrona \nKostnadsfri biljett bokas här.\nGlöm inte fylla i om du vill ha frukost eller inte. \nOm Diane Emerita\nDiane Emerita\, 21\, har snabbt gjort avtryck på den svenska musikscenen med sin förtrollande röst och låtar om hjärtesorg och relationer\, inspirerade av artister som Mitski och Nina Simone. Hon har hyllats av SVT Babel\, Aftonbladet\, GAFFA och PSL\, samt varit förband åt artister som Sara Parkman och Moonica Mac.\n\nGenom ett kringflackande liv under sin uppväxt\, med perioder i både Hamburg och Dalarna såväl som på otaliga platser runt om i världen\, har Diane Emerita hittat sin röst\, sin berättelse. En stark sådan som utgår från en känsla av utanförskap och där musiken tillåts bli en helande plats.
URL:https://www.thepot.se/program/experience-at-the-pot-presenterar-diane-emerita-karlskrona-kl-8-30/
LOCATION:The Pot Karlskrona\, Blekingegatan 1\, Karlskrona\, 37157\, Sverige
ATTACH;FMTTYPE=image/jpeg:https://media.thepot.se/2025/01/1920x1080_16x9_Experience_250213.jpg
END:VEVENT
BEGIN:VEVENT
DTSTART;TZID=Europe/Stockholm:20250213T114500
DTEND;TZID=Europe/Stockholm:20250213T130000
DTSTAMP:20260425T160230
CREATED:20250128T132051Z
LAST-MODIFIED:20250128T142556Z
UID:10000239-1739447100-1739451600@www.thepot.se
SUMMARY:Experience at The Pot presenterar Diane Emerita! Karlshamn kl 12.30
DESCRIPTION:13 februari har vi den fantastiska möjligheten att erbjuda en exklusiv konsertupplevelse med en av morgondagens världsstjärnor – Diane Emerita.  \nTillsammans med vännerna på bokningsbolaget Luger presenterar vi två möjligheter att kostnadsfritt uppleva Diane i ett avskalat format på både The Pot i Karlskrona och på The Pot i Karlshamn den 13 februari. \nDessutom passar vi på att bjuda på lättare lunch i samband med konserten – det blir helt enkelt ett perfekt tillfälle att ladda batterierna\, inspireras och uppleva en fantastisk konsert\, mitt i vardagen. \nDatum: 13 februari\nTid: kl 12.30 (lättare lunch 11.45)\nPlats: The Pot Karlshamn \nKostnadsfri biljett bokas här.\nGlöm inte fylla i om du vill ha lättare lunch eller inte. \nOm Diane Emerita\nDiane Emerita\, 21\, har snabbt gjort avtryck på den svenska musikscenen med sin förtrollande röst och låtar om hjärtesorg och relationer\, inspirerade av artister som Mitski och Nina Simone. Hon har hyllats av SVT Babel\, Aftonbladet\, GAFFA och PSL\, samt varit förband åt artister som Sara Parkman och Moonica Mac.\n\nGenom ett kringflackande liv under sin uppväxt\, med perioder i både Hamburg och Dalarna såväl som på otaliga platser runt om i världen\, har Diane Emerita hittat sin röst\, sin berättelse. En stark sådan som utgår från en känsla av utanförskap och där musiken tillåts bli en helande plats.
URL:https://www.thepot.se/program/experience-at-the-pot-presenterar-diane-emerita-karlshamn-kl-12-30/
LOCATION:The Pot Karlshamn\, Pirgatan 6\, Karlshamn\, 37438\, Sverige
ATTACH;FMTTYPE=image/jpeg:https://media.thepot.se/2025/01/1920x1080_16x9_Experience_250213.jpg
END:VEVENT
BEGIN:VEVENT
DTSTART;TZID=Europe/Stockholm:20250213T160000
DTEND;TZID=Europe/Stockholm:20250213T200000
DTSTAMP:20260425T160230
CREATED:20250123T094056Z
LAST-MODIFIED:20250203T141702Z
UID:10000233-1739462400-1739476800@www.thepot.se
SUMMARY:Afterwork at The Pot Karlskrona\, Feb 13
DESCRIPTION:Kom och fira med oss! Vår foajé är som vanligt fyllt med musik\, flipperspel\, pingis och mycket annat. \nStudenter\, glöm inte era studentlegitimationer för ännu mer kärlek i baren. \nTa med din bästa vän\, kollega eller sambo för en riktigt trevlig kväll! Hoppas vi ses där! \n 
URL:https://www.thepot.se/program/afterwork-at-the-pot-karlskrona-feb-13/
LOCATION:The Pot Karlskrona\, Blekingegatan 1\, Karlskrona\, 37157\, Sverige
ATTACH;FMTTYPE=image/jpeg:https://media.thepot.se/2024/08/1920x1080_AW_Hemsida_2024.jpg
END:VEVENT
BEGIN:VEVENT
DTSTART;TZID=Europe/Stockholm:20250218T080000
DTEND;TZID=Europe/Stockholm:20250218T084000
DTSTAMP:20260425T160230
CREATED:20250204T144247Z
LAST-MODIFIED:20250204T144247Z
UID:10000241-1739865600-1739868000@www.thepot.se
SUMMARY:Tisdags-Talk på The Pot Karlshamn: Magnus Åkesson
DESCRIPTION:Hur man lyckas med affärer i Kina!\nThe Pot och Gilla Karlshamn kör Tisdags-Talks på The Pot.\nStarta morgonen med 20 min mingelmacka följt av 20 min Talk. För att nätverka och få en energiboost före jobbet. \nTid: Tisdag 18 februari\, 08:00 – 08:40\nPlats: The Pot\, plan 4 på Östra Piren. (Enklast är att ta hissen upp vid biografen) \nTisdagsgäst: Magnus Åkesson \nPitch: Hur man lyckas med affärer i Kina.\nEfter 21 år i Kina är Magnus tillbaka i Karlshamn många erfarenheter rikare. Han ger sina tips kring hur man kan tänka när man vill lyckas i Kina. Och han berättar om den där Karlshamnsskylten som planeras vid Hinsetunneln! \nKostnadsfritt men anmälan krävs.\nLäs mer och boka här!
URL:https://www.thepot.se/program/tisdags-talk-pa-the-pot-karlshamn-magnus-akesson/
LOCATION:The Pot Karlshamn\, Pirgatan 6\, Karlshamn\, 37438\, Sverige
ATTACH;FMTTYPE=image/jpeg:https://media.thepot.se/2025/02/TisdagsTalk-magnus.jpg
END:VEVENT
BEGIN:VEVENT
DTSTART;TZID=Europe/Stockholm:20250220T160000
DTEND;TZID=Europe/Stockholm:20250220T200000
DTSTAMP:20260425T160230
CREATED:20250123T094201Z
LAST-MODIFIED:20250203T143458Z
UID:10000234-1740067200-1740081600@www.thepot.se
SUMMARY:Afterwork at The Pot Karlskrona\, Feb 20
DESCRIPTION:Kom och fira med oss! Vår foajé är som vanligt fyllt med musik\, flipperspel\, pingis och mycket annat.\n \nStudenter\, glöm inte era studentlegitimationer för ännu mer kärlek i baren. \nTa med din bästa vän\, kollega eller sambo för en riktigt trevlig kväll! Hoppas vi ses där! \n 
URL:https://www.thepot.se/program/afterwork-at-the-pot-karlskrona-feb-20/
LOCATION:The Pot Karlskrona\, Blekingegatan 1\, Karlskrona\, 37157\, Sverige
ATTACH;FMTTYPE=image/jpeg:https://media.thepot.se/2024/08/1920x1080_AW_Hemsida_2024.jpg
END:VEVENT
BEGIN:VEVENT
DTSTART;TZID=Europe/Stockholm:20250226T120000
DTEND;TZID=Europe/Stockholm:20250226T120000
DTSTAMP:20260425T160230
CREATED:20250205T150344Z
LAST-MODIFIED:20250205T150726Z
UID:10000242-1740571200-1740571200@www.thepot.se
SUMMARY:Lunch with new friends! Feb 26
DESCRIPTION:New in town? Join us for ”Lunch with new friends” at The Pot\, and find a new buddy in town!\nThe table is set and lunch is ready – now all we need is you! If you’re looking to meet new people\, this lunch is for you. Just sign up\, take a seat\, and let the conversation flow. \nPrice: 110 SEK \nDate: Feb 26\, 12:00 – 1:00 PM\nThe Pot\, Karlskrona \nTo secure your spot\, email us at wearekarlskrona@thepot.se\, including any allergies\, by Feb 24. \nNow launching We are Karlskrona! A meeting place for anyone who has moved to Karlskrona for work and is new to town! We are Karlskrona is a meeting point designed to help you connect\, network and settle into your new community. Our goal is to create a welcoming environment where you can explore all that Karlskrona and Blekinge have to offer\, connect with like-minded people and feel part of a forward-thinking city. \nQuestions about the initiative\, please contact wearekarlskrona@thepot.se
URL:https://www.thepot.se/program/lunch-with-new-friends-feb-26/
LOCATION:The Pot Karlskrona\, Blekingegatan 1\, Karlskrona\, 37157\, Sverige
ATTACH;FMTTYPE=image/jpeg:https://media.thepot.se/2024/11/1920x1080_WeAreKna_Hemsida_mat.jpg
END:VEVENT
BEGIN:VEVENT
DTSTART;TZID=Europe/Stockholm:20250227T160000
DTEND;TZID=Europe/Stockholm:20250227T200000
DTSTAMP:20260425T160230
CREATED:20250123T094405Z
LAST-MODIFIED:20250203T141617Z
UID:10000235-1740672000-1740686400@www.thepot.se
SUMMARY:Afterwork at The Pot Karlskrona\, Feb 27
DESCRIPTION:Kom och fira med oss! Vår foajé är som vanligt fyllt med musik\, flipperspel\, pingis och mycket annat. \nStudenter\, glöm inte era studentlegitimationer för ännu mer kärlek i baren. \nTa med din bästa vän\, kollega eller sambo för en riktigt trevlig kväll! Hoppas vi ses där! \n 
URL:https://www.thepot.se/program/afterwork-at-the-pot-karlskrona-feb-27/
LOCATION:The Pot Karlskrona\, Blekingegatan 1\, Karlskrona\, 37157\, Sverige
ATTACH;FMTTYPE=image/jpeg:https://media.thepot.se/2024/08/1920x1080_AW_Hemsida_2024.jpg
END:VEVENT
END:VCALENDAR