BEGIN:VCALENDAR
VERSION:2.0
PRODID:-//The Pot - ECPv6.15.20//NONSGML v1.0//EN
CALSCALE:GREGORIAN
METHOD:PUBLISH
X-ORIGINAL-URL:https://www.thepot.se
X-WR-CALDESC:Händelser för The Pot
REFRESH-INTERVAL;VALUE=DURATION:PT1H
X-Robots-Tag:noindex
X-PUBLISHED-TTL:PT1H
BEGIN:VTIMEZONE
TZID:Europe/Stockholm
BEGIN:DAYLIGHT
TZOFFSETFROM:+0100
TZOFFSETTO:+0200
TZNAME:CEST
DTSTART:20240331T010000
END:DAYLIGHT
BEGIN:STANDARD
TZOFFSETFROM:+0200
TZOFFSETTO:+0100
TZNAME:CET
DTSTART:20241027T010000
END:STANDARD
BEGIN:DAYLIGHT
TZOFFSETFROM:+0100
TZOFFSETTO:+0200
TZNAME:CEST
DTSTART:20250330T010000
END:DAYLIGHT
BEGIN:STANDARD
TZOFFSETFROM:+0200
TZOFFSETTO:+0100
TZNAME:CET
DTSTART:20251026T010000
END:STANDARD
BEGIN:DAYLIGHT
TZOFFSETFROM:+0100
TZOFFSETTO:+0200
TZNAME:CEST
DTSTART:20260329T010000
END:DAYLIGHT
BEGIN:STANDARD
TZOFFSETFROM:+0200
TZOFFSETTO:+0100
TZNAME:CET
DTSTART:20261025T010000
END:STANDARD
END:VTIMEZONE
BEGIN:VEVENT
DTSTART;TZID=Europe/Stockholm:20250109T154500
DTEND;TZID=Europe/Stockholm:20250109T164500
DTSTAMP:20260421T113115
CREATED:20241018T123511Z
LAST-MODIFIED:20241018T123511Z
UID:10000204-1736437500-1736441100@www.thepot.se
SUMMARY:Föreläsning: Självledarskap
DESCRIPTION:Tröttnat på att vänta på superhjältar?\nVill du upptäcka din inre superkraft och använda den för att uppnå dina mål? Föreläsningen vill med en blandning av teori\, praktiska övningar och reflektion inspirera dig att ta nästa steg i din utveckling. Starta upp året med inspel till din hållbara utvecklingsplan för 2025. \n\n\n\n\nOm Sara Bengtsson:\nVad gör jag?\nJag stöttar kunder att stärka förändringsförmågan\, (själv)ledarskapet och främja lärande i organisationer\, team och individer. Jag brinner för att hjälpa varje individ att upptäcka sin inre kraft och potential att växa och för team att hitta kraften i verkligt samarbete. Att få se de där små förflyttningarna som steg för steg leder till förändring gör mig lycklig. \n\n\n\n\nVem är jag?\nJag är en nyfiken ”lärnörd” med lång erfarenhet kring förändringsledarskap\, strategisk kompetensutveckling och lärande. I grunden är jag personalvetare med många år inom operativt och strategiskt HR\, diplomerad ICF coach samt certifierad förändringsledare. För snart tre år sedan förverkligade jag min livsdröm att starta eget – mitt Växa konsult AB 🌱 \nOm mitt företag\n”Växa konsult” erbjuder bland annat ledarträning\, chefscoaching\, utbildning/stöd /projektledning i förändringsarbete\, utbildning i kraftfull presentationsteknik\, ledningsgrupps – och teamutveckling samt strategiskt stöd i organisationsutveckling. \nDatum: 9 jan\nTid: 15.45-16.45\nMingel från 15.45. Föreläsningen startar 16.00 och är slut 16.45.\nPlats: The Pot\, Karlskrona \nAnmälan senast 7 jan till sara@vxakonsult.se\nFöreläsningen är kostnadsfri men avboka gärna om du får förhinder så att platsen kan gå till någon annan. \nVarmt välkomna!
URL:https://www.thepot.se/program/forelasning-sjalvledarskap/
LOCATION:The Pot Karlskrona\, Blekingegatan 1\, Karlskrona\, 37157\, Sverige
ATTACH;FMTTYPE=image/jpeg:https://media.thepot.se/2024/10/1920x1080_SoMe_Sara_B_kna_hemsida.jpg
END:VEVENT
BEGIN:VEVENT
DTSTART;TZID=Europe/Stockholm:20250110T074500
DTEND;TZID=Europe/Stockholm:20250110T084500
DTSTAMP:20260421T113115
CREATED:20241018T123742Z
LAST-MODIFIED:20241018T123742Z
UID:10000205-1736495100-1736498700@www.thepot.se
SUMMARY:Föreläsning: Självledarskap
DESCRIPTION:Tröttnat på att vänta på superhjältar?\nVill du upptäcka din inre superkraft och använda den för att uppnå dina mål? Föreläsningen vill med en blandning av teori\, praktiska övningar och reflektion inspirera dig att ta nästa steg i din utveckling. Starta upp året med inspel till din hållbara utvecklingsplan för 2025. \n\n\n\n\nOm Sara Bengtsson:\nVad gör jag?\nJag stöttar kunder att stärka förändringsförmågan\, (själv)ledarskapet och främja lärande i organisationer\, team och individer. Jag brinner för att hjälpa varje individ att upptäcka sin inre kraft och potential att växa och för team att hitta kraften i verkligt samarbete. Att få se de där små förflyttningarna som steg för steg leder till förändring gör mig lycklig. \n\n\n\n\nVem är jag?\nJag är en nyfiken ”lärnörd” med lång erfarenhet kring förändringsledarskap\, strategisk kompetensutveckling och lärande. I grunden är jag personalvetare med många år inom operativt och strategiskt HR\, diplomerad ICF coach samt certifierad förändringsledare. För snart tre år sedan förverkligade jag min livsdröm att starta eget – mitt Växa konsult AB 🌱 \nOm mitt företag\n”Växa konsult” erbjuder bland annat ledarträning\, chefscoaching\, utbildning/stöd /projektledning i förändringsarbete\, utbildning i kraftfull presentationsteknik\, ledningsgrupps – och teamutveckling samt strategiskt stöd i organisationsutveckling. \nDatum: 10 jan\nTid: 7.45-8.45\nMingel från 7.45. Föreläsningen startar 8.00 och är slut 8.45.\nPlats: The Pot\, Karlshamn \nAnmälan senast 8 jan till sara@vxakonsult.se\nFöreläsningen är kostnadsfri men avboka gärna om du får förhinder så att platsen kan gå till någon annan. \nVarmt välkomna!
URL:https://www.thepot.se/program/forelasning-sjalvledarskap-2/
LOCATION:The Pot Karlshamn\, Pirgatan 6\, Karlshamn\, 37438\, Sverige
ATTACH;FMTTYPE=image/jpeg:https://media.thepot.se/2024/10/1920x1080_SoMe_Sara_B_khamn_hemsida.jpg
END:VEVENT
BEGIN:VEVENT
DTSTART;TZID=Europe/Stockholm:20250115T120000
DTEND;TZID=Europe/Stockholm:20250115T130000
DTSTAMP:20260421T113115
CREATED:20241108T145637Z
LAST-MODIFIED:20241119T134259Z
UID:10000217-1736942400-1736946000@www.thepot.se
SUMMARY:Lunch with new friends! Jan 15
DESCRIPTION:The table is set and lunch is ready – now all we need is you! If you’re looking to make new friends\, this lunch is for you. Just sign up\, take a seat and let the conversation flow. Everyone is welcome! \nDate: Jan 15\, 12:00 – 1:00 PM\nThe Pot\, Karlskrona \nTo register\, please email us at wearekarlskrona@thepot.se by Jan 12. \nNow launching We are Karlskrona! A meeting place for anyone who has moved to Karlskrona for work and is new to town! We are Karlskrona is a meeting point designed to help you connect\, network and settle into your new community. Our goal is to create a welcoming environment where you can explore all that Karlskrona and Blekinge have to offer\, connect with like-minded people and feel part of a forward-thinking city. \nQuestions about the initiative\, please contact wearekarlskrona@thepot.se.
URL:https://www.thepot.se/program/lunch-with-new-friends-jan-15/
LOCATION:The Pot Karlskrona\, Blekingegatan 1\, Karlskrona\, 37157\, Sverige
ATTACH;FMTTYPE=image/jpeg:https://media.thepot.se/2024/11/1920x1080_WeAreKna_Hemsida_mat.jpg
END:VEVENT
BEGIN:VEVENT
DTSTART;TZID=Europe/Stockholm:20250117T074500
DTEND;TZID=Europe/Stockholm:20250117T100000
DTSTAMP:20260421T113115
CREATED:20241210T143754Z
LAST-MODIFIED:20241212T124453Z
UID:10000228-1737099900-1737108000@www.thepot.se
SUMMARY:Yoga i Karlshamn - Energiboost för din arbetsdag
DESCRIPTION:Välkommen till en unik morgonupplevelse som kombinerar yoga\, mindfulness\, hälsa och nätverkande! Denna exklusiva upplevelse äger rum i The Pots unika konsertlokal Navet\, med begränsat antal platser för att skapa en personlig atmosfär. \nSamling 07:45\nYoga 08:00-08:45\nFrukost 08:45 – tills du är redo att möta dagen! \nDatum: 17 jan\nPlats: Navet\, The Pot Karlshamn \nFör att säkra din plats på eventet ber vi dig att genomföra betalningen genom att swisha 295:- till 1230697367 med meddelande ”17/1” i samband med din anmälan. Din betalning fungerar som en bekräftelse på din plats. \nAnmäl dig här! \nVälkomna!
URL:https://www.thepot.se/program/yoga-i-karlshamn-energiboost-for-din-arbetsdag/
LOCATION:The Pot Karlshamn\, Pirgatan 6\, Karlshamn\, 37438\, Sverige
ATTACH;FMTTYPE=image/jpeg:https://media.thepot.se/2024/12/1920x1080_SoMe_Yoga_Hemsida.jpg
END:VEVENT
BEGIN:VEVENT
DTSTART;TZID=Europe/Stockholm:20250121T080000
DTEND;TZID=Europe/Stockholm:20250121T084500
DTSTAMP:20260421T113115
CREATED:20241210T144232Z
LAST-MODIFIED:20241210T144232Z
UID:10000229-1737446400-1737449100@www.thepot.se
SUMMARY:Tisdags-Talks i Karlshamn med Linus Ingemarson
DESCRIPTION:Starta morgonen med 20 min mingelmacka följt av 20 min Talk. För att nätverka och få en energiboost före jobbet.\nThe Pot och Gilla Karlshamn kör Tisdags-Talks på The Pot.\n \nDen 21 januari kommer Linus Ingemarson!\nTid: Tisdag 21 januari\, 08:00 – 08:40\nPlats: The Pot\, plan 4 på Östra Piren. (Enklast är att ta hissen upp vid biografen)\n\nKända platser i Karlshamn förr. Med stort intresse för historia och nostalgi delar den 35-årige samlaren Linus Ingemarson med sig av en kavalkad av bilder från kända delar av Karlshamn på gamla vykort och fotografier\, med fokus på piren/hamnen området.\n\nAnmäl dig här!\n\nVälkommen!
URL:https://www.thepot.se/program/tisdags-talks-i-karlshamn-med-linus-ingemarson/
LOCATION:The Pot Karlshamn\, Pirgatan 6\, Karlshamn\, 37438\, Sverige
ATTACH;FMTTYPE=image/jpeg:https://media.thepot.se/2024/12/TisdagsTalk_21jan_1200x857.jpg
END:VEVENT
BEGIN:VEVENT
DTSTART;TZID=Europe/Stockholm:20250130T160000
DTEND;TZID=Europe/Stockholm:20250130T200000
DTSTAMP:20260421T113115
CREATED:20250115T103031Z
LAST-MODIFIED:20250124T184705Z
UID:10000231-1738252800-1738267200@www.thepot.se
SUMMARY:Afterwork at The Pot Karlskrona\, Jan 30 - tacobuffé 🌮🌮🌮
DESCRIPTION:AW-torsdag på Pottan är igång igen! 💃\nVi firar första torsdagen med att duka fram tacobuffé 🌮. \n200 kr inkl dryck.\nFörboka på hej@thepot.se – senast 29/1\nHalli Galli! \n\nAW Thursday at Pottan is back! 💃\nWe’re kicking off the first Thursday with a taco buffet 🌮. \n200 SEK\, including a drink.\nPre-book at hej@thepot.se – no later than January 29.\nHalli Galli! 
URL:https://www.thepot.se/program/afterwork-at-the-pot-karlskrona-jan-30/
LOCATION:The Pot Karlskrona\, Blekingegatan 1\, Karlskrona\, 37157\, Sverige
ATTACH;FMTTYPE=image/jpeg:https://media.thepot.se/2024/08/1920x1080_AW_Hemsida_2024.jpg
END:VEVENT
END:VCALENDAR