BEGIN:VCALENDAR
VERSION:2.0
PRODID:-//The Pot - ECPv6.15.20//NONSGML v1.0//EN
CALSCALE:GREGORIAN
METHOD:PUBLISH
X-WR-CALNAME:The Pot
X-ORIGINAL-URL:https://www.thepot.se
X-WR-CALDESC:Händelser för The Pot
REFRESH-INTERVAL;VALUE=DURATION:PT1H
X-Robots-Tag:noindex
X-PUBLISHED-TTL:PT1H
BEGIN:VTIMEZONE
TZID:Europe/Stockholm
BEGIN:DAYLIGHT
TZOFFSETFROM:+0100
TZOFFSETTO:+0200
TZNAME:CEST
DTSTART:20230326T010000
END:DAYLIGHT
BEGIN:STANDARD
TZOFFSETFROM:+0200
TZOFFSETTO:+0100
TZNAME:CET
DTSTART:20231029T010000
END:STANDARD
BEGIN:DAYLIGHT
TZOFFSETFROM:+0100
TZOFFSETTO:+0200
TZNAME:CEST
DTSTART:20240331T010000
END:DAYLIGHT
BEGIN:STANDARD
TZOFFSETFROM:+0200
TZOFFSETTO:+0100
TZNAME:CET
DTSTART:20241027T010000
END:STANDARD
BEGIN:DAYLIGHT
TZOFFSETFROM:+0100
TZOFFSETTO:+0200
TZNAME:CEST
DTSTART:20250330T010000
END:DAYLIGHT
BEGIN:STANDARD
TZOFFSETFROM:+0200
TZOFFSETTO:+0100
TZNAME:CET
DTSTART:20251026T010000
END:STANDARD
END:VTIMEZONE
BEGIN:VEVENT
DTSTART;TZID=Europe/Stockholm:20240503T200000
DTEND;TZID=Europe/Stockholm:20240503T200000
DTSTAMP:20260425T172642
CREATED:20240226T144609Z
LAST-MODIFIED:20240228T072106Z
UID:10000167-1714766400-1714766400@www.thepot.se
SUMMARY:Live i Vardagsrummet - Dirty Soul Project med Linus Norda\, Oskar Appelqvist\, Niclas Höglind & Kristofer Johansson
DESCRIPTION:Paraply & The Pot hälsar åter publiken välkommen till vardagsrummet och en intim konsertkväll i absoluta världsklass\, denna gång med en riktig allstar-kvartett bestående av två av stauns musikaliska radarpar. Vi kombinerar denna kväll den oskiljaktliga dynamiska duon Linus Norda och Oskar Appelqvist med soul-\, funk- och jazzmaskinen UNIT bestående av Niclas Höglind och Kristofer Johansson. Vi kan förvänta oss en svängig kväll utöver det vanliga i soulens tecken. Luta er tillbaka\, spänn fast svängsäkerhetsbältena och följ med på en musikalisk joyride! \nI foajén spelar vi odödliga soulklassiker och i baren finns något för alla smaker. Kom i god tid och förlusta dig med våra flipperspel\, biljardbord och stauns bästa häng! För den som är sugen på att maxa vårkvällen ges också möjlighet att boka Napolitansk Pizzabuffé & Bubbel ihop med din konsertbiljett – begränsat antal platser! \nKonserten presenteras i samarbete med Musik i Blekinge \nBiljetter\nKonsertbiljett – 395kr + serviceavgift\nKonsertbiljett + Napolitansk Pizzabuffé & ett glas bubbel – 645kr + serviceavgift \nHa gärna din biljett redo för scanning. Du behöver inte skriva ut biljetten\, det går bra att visa upp den i din telefon. Konserten har numrerade platser och dessa återfinns på din biljett. \nHålltider\nFredag 3 maj\n18.00 – Napolitansk Pizzabuffé & Bubbel (endast förköp\, begränsat antal!)\n18.00 – Baren i The Pot’s foajé öppnar\n19.30 – Dörrarna in till Vardagsrummet öppnar\n20.00 – Konsert \nKöp biljetter här!
URL:https://www.thepot.se/program/live-i-vardagsrummet-dirty-soul-project-med-linus-norda-oskar-appelqvist-niclas-hoglind-kristofer-johansson/
LOCATION:The Pot Karlskrona\, Blekingegatan 1\, Karlskrona\, 37157\, Sverige
ATTACH;FMTTYPE=image/jpeg:https://media.thepot.se/2024/02/1920x1080_DirtySoulProject-1.jpg
END:VEVENT
BEGIN:VEVENT
DTSTART;TZID=Europe/Stockholm:20240504T200000
DTEND;TZID=Europe/Stockholm:20240504T200000
DTSTAMP:20260425T172642
CREATED:20240226T144858Z
LAST-MODIFIED:20240228T072000Z
UID:10000168-1714852800-1714852800@www.thepot.se
SUMMARY:Live i Vardagsrummet - Dirty Soul Project med Linus Norda\, Oskar Appelqvist\, Niclas Höglind & Kristofer Johansson
DESCRIPTION:Paraply & The Pot hälsar åter publiken välkommen till vardagsrummet och en intim konsertkväll i absoluta världsklass\, denna gång med en riktig allstar-kvartett bestående av två av stauns musikaliska radarpar. Vi kombinerar denna kväll den oskiljaktliga dynamiska duon Linus Norda och Oskar Appelqvist med soul-\, funk- och jazzmaskinen UNIT bestående av Niclas Höglind och Kristofer Johansson. Vi kan förvänta oss en svängig kväll utöver det vanliga i soulens tecken. Luta er tillbaka\, spänn fast svängsäkerhetsbältena och följ med på en musikalisk joyride! \nI foajén spelar vi odödliga soulklassiker och i baren finns något för alla smaker. Kom i god tid och förlusta dig med våra flipperspel\, biljardbord och stauns bästa häng! För den som är sugen på att maxa vårkvällen ges också möjlighet att boka Napolitansk Pizzabuffé & Bubbel ihop med din konsertbiljett – begränsat antal platser! \nKonserten presenteras i samarbete med Musik i Blekinge \nBiljetter\nKonsertbiljett – 395kr + serviceavgift\nKonsertbiljett + Napolitansk Pizzabuffé & ett glas bubbel – 645kr + serviceavgift \nHa gärna din biljett redo för scanning. Du behöver inte skriva ut biljetten\, det går bra att visa upp den i din telefon. Konserten har numrerade platser och dessa återfinns på din biljett. \nHålltider\nLördag 4 maj\n18.00 – Napolitansk Pizzabuffé & Bubbel (endast förköp\, begränsat antal!)\n18.00 – Baren i The Pot’s foajé öppnar\n19.30 – Dörrarna in till Vardagsrummet öppnar\n20.00 – Konsert \nKöp biljetter här!
URL:https://www.thepot.se/program/live-i-vardagsrummet-dirty-soul-project-med-linus-norda-oskar-appelqvist-niclas-hoglind-kristofer-johansson-2/
LOCATION:The Pot Karlskrona\, Blekingegatan 1\, Karlskrona\, 37157\, Sverige
ATTACH;FMTTYPE=image/jpeg:https://media.thepot.se/2024/02/1920x1080_DirtySoulProject-1.jpg
END:VEVENT
BEGIN:VEVENT
DTSTART;TZID=Europe/Stockholm:20240517T073000
DTEND;TZID=Europe/Stockholm:20240517T083000
DTSTAMP:20260425T172642
CREATED:20240430T122631Z
LAST-MODIFIED:20240430T123313Z
UID:10000179-1715931000-1715934600@www.thepot.se
SUMMARY:MorgonYoga\, The Pot Takterassen\, 17 maj
DESCRIPTION:Varmt välkommen att starta din morgon med ett mjukt yogapass där du får möjlighet att landa in i dig själv och göra dig redo för dagen. Takterassen på The Pot är fantastisk med sin utsikt och perfekt att yoga på. Vi avslutar passet med meditation och vila. \nTemat är fokus för att möta dig själv och dagen på bästa sätt. \nInga förkunskaper krävs. Kom som du är! \nTa med något att yoga på och ha bekväma kläder. \nBoka dig här:\nhttps://www.bokadirekt.se/places/mindful-yoga-23074 \nPris: 200 kr \nHoppas vi ses! /Ida
URL:https://www.thepot.se/program/morgonyoga-the-pot-takterassen-17-maj/
LOCATION:The Pot Karlskrona\, Blekingegatan 1\, Karlskrona\, 37157\, Sverige
ATTACH;FMTTYPE=image/jpeg:https://media.thepot.se/2024/04/1080x1080_Yoga_2024.jpg
END:VEVENT
BEGIN:VEVENT
DTSTART;TZID=Europe/Stockholm:20240517T074500
DTEND;TZID=Europe/Stockholm:20240517T093000
DTSTAMP:20260425T172642
CREATED:20240430T065634Z
LAST-MODIFIED:20240502T120319Z
UID:10000178-1715931900-1715938200@www.thepot.se
SUMMARY:Splittrad bild när centralbanker ska bekänna färg
DESCRIPTION:Frukostmöte\nSEB: Inbjudan till Nordic Outlook 17 maj \nVärlden ser fram emot de första räntesänkningarna men bilden har de senaste månaderna förändrats och de tidigare så samordnade centralbankerna spretar nu rejält. I USA fortsätter ekonomin att gå starkt medan inflationen hänger sig kvar och Fed skjuter räntesänkningarna på framtiden. I Europa är tillväxten låg och inflationen faller tillbaka. ECB förefaller nu vara betydligt närmare en räntesänkning än vad Fed är och ännu närmare verkar Riksbanken vara. \nVi tror att Riksbanken både behöver och vågar ta steget att gå före Fed och ECB in i räntesänkningscykeln men kronans svaghet är ett bekymmer. Sverige och världen måste också förhålla sig till ett kraftigt försämrat geopolitiskt läge där konflikten i Mellanöstern redan trappats upp och riskerar att eskalera ytterligare. \nNär och i vilken ordning sänker centralbankerna räntorna? Vågar Riksbanken gå först eller är kronriskerna för stora? Vilka blir effekterna av den förvärrade geopolitiska turbulensen\, riskerar frakt- och energipriser att skapa en ny inflationsvåg? Hur kommer valen till Europaparlamentet och Vita Huset att påverka den ekonomiska utvecklingen och kan svensk ekonomi växla upp när lägre inflation och sänkta räntor får hushållens motvind att mattas och finanspolitiken går i expansiv riktning?  \n\nDatum: Fredag 17/5 kl. 7:45-9:30\nPlats: Karlskrona\, The Pot \nAnmälan: O.s.a. 13 maj (anmäl specialkost) \nAnmäld dig till:\nDavid Möller\, david.moller@seb.se \n\nVarmt välkommen till en presentation av Nordic Outlook!\nSEB Blekinge \n 
URL:https://www.thepot.se/program/splittrad-bild-nar-centralbanker-ska-bekanna-farg/
LOCATION:The Pot Karlskrona\, Blekingegatan 1\, Karlskrona\, 37157\, Sverige
ATTACH;FMTTYPE=image/jpeg:https://media.thepot.se/2024/04/1920x1080_SEB_17maj_Hemsida.jpg
END:VEVENT
BEGIN:VEVENT
DTSTART;TZID=Europe/Stockholm:20240524T073000
DTEND;TZID=Europe/Stockholm:20240524T083000
DTSTAMP:20260425T172642
CREATED:20240502T121404Z
LAST-MODIFIED:20240502T121404Z
UID:10000180-1716535800-1716539400@www.thepot.se
SUMMARY:MorgonYoga\, The Pot Takterassen\, 24 maj
DESCRIPTION:Varmt välkommen att starta din morgon med ett mjukt yogapass där du får möjlighet att landa in i dig själv och göra dig redo för dagen. Takterassen på The Pot är fantastisk med sin utsikt och perfekt att yoga på. Vi avslutar passet med meditation och vila. \nTemat är fokus för att möta dig själv och dagen på bästa sätt. \nInga förkunskaper krävs. Kom som du är! \nTa med något att yoga på och ha bekväma kläder. \nBoka dig här:\nhttps://www.bokadirekt.se/places/mindful-yoga-23074 \nPris: 200 kr \nHoppas vi ses! /Ida
URL:https://www.thepot.se/program/morgonyoga-the-pot-takterassen-24-maj/
LOCATION:The Pot Karlskrona\, Blekingegatan 1\, Karlskrona\, 37157\, Sverige
ATTACH;FMTTYPE=image/jpeg:https://media.thepot.se/2024/04/1080x1080_Yoga_2024.jpg
END:VEVENT
BEGIN:VEVENT
DTSTART;TZID=Europe/Stockholm:20240528T150000
DTEND;TZID=Europe/Stockholm:20240528T163000
DTSTAMP:20260425T172642
CREATED:20240201T083920Z
LAST-MODIFIED:20240503T093203Z
UID:10000162-1716908400-1716913800@www.thepot.se
SUMMARY:Karlskrona Live #008
DESCRIPTION:AI – Karlskronas framtid och hela världens nya spelplan\nAI står inte bara i teknikens framkant – det markerar början på en ny era som omdefinierar spelplanen och framtiden globalt. Är vi redo för det? Hur påverkar AI vår demokrati? Vad gör det med vårt ledarskap? Vad innebär det för vår framtida kompetensförsörjning? Och hur kan vi tillsammans forma framtiden till något vi önskar? \nDen 28 maj kl. 15:00 kommer vi att lyfta många frågor\, funderingar och perspektiv på hur AI möjliggör och påverkar Karlskrona. Som vanligt lovar vi högt tempo och många inspirerande gäster på scen. \nSäkra din plats direkt!\nDet är som alltid begränsat antal sittplatser i studion. \nPaxa plats!
URL:https://www.thepot.se/program/karlskrona-live-008/
LOCATION:The Pot Karlskrona\, Blekingegatan 1\, Karlskrona\, 37157\, Sverige
ATTACH;FMTTYPE=image/jpeg:https://media.thepot.se/2023/09/KNA-Live_SoMe.jpg
END:VEVENT
BEGIN:VEVENT
DTSTART;TZID=Europe/Stockholm:20240531T073000
DTEND;TZID=Europe/Stockholm:20240531T083000
DTSTAMP:20260425T172642
CREATED:20240502T121503Z
LAST-MODIFIED:20240502T121503Z
UID:10000181-1717140600-1717144200@www.thepot.se
SUMMARY:MorgonYoga\, The Pot Takterassen\, 31 maj
DESCRIPTION:Varmt välkommen att starta din morgon med ett mjukt yogapass där du får möjlighet att landa in i dig själv och göra dig redo för dagen. Takterassen på The Pot är fantastisk med sin utsikt och perfekt att yoga på. Vi avslutar passet med meditation och vila. \nTemat är fokus för att möta dig själv och dagen på bästa sätt. \nInga förkunskaper krävs. Kom som du är! \nTa med något att yoga på och ha bekväma kläder. \nBoka dig här:\nhttps://www.bokadirekt.se/places/mindful-yoga-23074 \nPris: 200 kr \nHoppas vi ses! /Ida
URL:https://www.thepot.se/program/morgonyoga-the-pot-takterassen-31-maj/
LOCATION:The Pot Karlskrona\, Blekingegatan 1\, Karlskrona\, 37157\, Sverige
ATTACH;FMTTYPE=image/jpeg:https://media.thepot.se/2024/04/1080x1080_Yoga_2024.jpg
END:VEVENT
END:VCALENDAR