BEGIN:VCALENDAR
VERSION:2.0
PRODID:-//The Pot - ECPv6.15.20//NONSGML v1.0//EN
CALSCALE:GREGORIAN
METHOD:PUBLISH
X-WR-CALNAME:The Pot
X-ORIGINAL-URL:https://www.thepot.se
X-WR-CALDESC:Händelser för The Pot
REFRESH-INTERVAL;VALUE=DURATION:PT1H
X-Robots-Tag:noindex
X-PUBLISHED-TTL:PT1H
BEGIN:VTIMEZONE
TZID:Europe/Stockholm
BEGIN:DAYLIGHT
TZOFFSETFROM:+0100
TZOFFSETTO:+0200
TZNAME:CEST
DTSTART:20230326T010000
END:DAYLIGHT
BEGIN:STANDARD
TZOFFSETFROM:+0200
TZOFFSETTO:+0100
TZNAME:CET
DTSTART:20231029T010000
END:STANDARD
BEGIN:DAYLIGHT
TZOFFSETFROM:+0100
TZOFFSETTO:+0200
TZNAME:CEST
DTSTART:20240331T010000
END:DAYLIGHT
BEGIN:STANDARD
TZOFFSETFROM:+0200
TZOFFSETTO:+0100
TZNAME:CET
DTSTART:20241027T010000
END:STANDARD
BEGIN:DAYLIGHT
TZOFFSETFROM:+0100
TZOFFSETTO:+0200
TZNAME:CEST
DTSTART:20250330T010000
END:DAYLIGHT
BEGIN:STANDARD
TZOFFSETFROM:+0200
TZOFFSETTO:+0100
TZNAME:CET
DTSTART:20251026T010000
END:STANDARD
END:VTIMEZONE
BEGIN:VEVENT
DTSTART;TZID=Europe/Stockholm:20240404T160000
DTEND;TZID=Europe/Stockholm:20240404T200000
DTSTAMP:20260426T030451
CREATED:20240318T145450Z
LAST-MODIFIED:20240403T142536Z
UID:10000171-1712246400-1712260800@www.thepot.se
SUMMARY:Välkomna på afterwork at The Pot den 4/4! Hyper Island take over!
DESCRIPTION:Hyper Island take over! \nKom och fira med oss! \nVår foajé är som vanligt fylld med musik från DJ Blaze Lee (Hyper Island)\, flipperspel och pingis. \nHungrig? Beställ pizza eller charkbricka i baren! \nStudenter\, glöm inte era studentlegitimationer för ännu mer kärlek i baren. \nTa med din bästa vän\, kollega eller sambo för en riktigt trevlig kväll! \nHoppas vi ses där!
URL:https://www.thepot.se/program/valkomna-pa-afterwork-at-the-pot-den-4-4-%f0%9f%8e%89%f0%9f%9a%80%f0%9f%a5%b3/
LOCATION:The Pot Karlskrona\, Blekingegatan 1\, Karlskrona\, 37157\, Sverige
ATTACH;FMTTYPE=image/jpeg:https://media.thepot.se/2024/01/1920x1080_AW_Hemsida_kl16_20.jpg
END:VEVENT
BEGIN:VEVENT
DTSTART;TZID=Europe/Stockholm:20240418T160000
DTEND;TZID=Europe/Stockholm:20240418T200000
DTSTAMP:20260426T030451
CREATED:20240318T145724Z
LAST-MODIFIED:20240318T145724Z
UID:10000172-1713456000-1713470400@www.thepot.se
SUMMARY:Välkomna på afterwork at The Pot den 18/4!
DESCRIPTION:Kom och fira med oss!  \nVår foajé är som vanligt fylld med musik från vår vinyl-DJ Martin Josefsson\, flipperspel och pingis. \nHungrig? Beställ pizza eller charkbricka i baren! \nStudenter\, glöm inte era studentlegitimationer för ännu mer kärlek i baren.  \nTa med din bästa vän\, kollega eller sambo för en riktigt trevlig kväll! \nHoppas vi ses där!
URL:https://www.thepot.se/program/valkomna-pa-afterwork-at-the-pot-den-18-4/
LOCATION:The Pot Karlskrona\, Blekingegatan 1\, Karlskrona\, 37157\, Sverige
ATTACH;FMTTYPE=image/jpeg:https://media.thepot.se/2024/01/1920x1080_AW_Hemsida_kl16_20.jpg
END:VEVENT
BEGIN:VEVENT
DTSTART;TZID=Europe/Stockholm:20240422T153000
DTEND;TZID=Europe/Stockholm:20240422T170000
DTSTAMP:20260426T030451
CREATED:20240305T134249Z
LAST-MODIFIED:20240305T135317Z
UID:10000169-1713799800-1713805200@www.thepot.se
SUMMARY:Berghs & Paraply åker på turné
DESCRIPTION:According to Berghs – Trendspaning\nDen 22 april ger vi oss ut på vägarna och besöker både Kalmar och Karlskrona under en och samma dag. Ta chansen och pricka in ett av dessa unika tillfällen\, och boosta din hjärna med denna helt kostnadsfria och inspirerande föreläsningen av Jasper Hein Nordling – affärsstrateg och projektledare på Berghs School of Communication. \nLär dig mer om hur vi behöver tänka för att lyckas med kommunikationen i en unik tid av parallella kriser och hot och varför samtalstonalitet är det nya svarta i marknadsföringen.  2024 blir ett år fyllt av utmaningar – och möjligheter – när AI-chocken släpper och vi börjar använda tekniken i både det dagliga arbetet och i våra kampanjer. Få en inblick i hur andra varumärken och organisationer tänker och agerar kring sin AI-resa och inspireras även av intressanta case skapade av Berghs studenter. \nÅrets upplaga av trendspaningen According to Berghs bygger som alltid på fyra värdefulla insikter\, fyra relevanta kompetenser och sju trender att använda som bränsle till det kreativa och strategiska arbetet. \nBoka din biljett här till föreläsningen i Karlskrona. \nFöreläsningen är kostnadsfri.
URL:https://www.thepot.se/program/berghs-paraply-aker-pa-turne/
LOCATION:The Pot Karlskrona\, Blekingegatan 1\, Karlskrona\, 37157\, Sverige
ATTACH;FMTTYPE=image/jpeg:https://media.thepot.se/2024/03/Berghs-Paraply-Turne-16x9-1.jpg
END:VEVENT
BEGIN:VEVENT
DTSTART;TZID=Europe/Stockholm:20240423T090000
DTEND;TZID=Europe/Stockholm:20240423T160000
DTSTAMP:20260426T030451
CREATED:20240131T163821Z
LAST-MODIFIED:20240422T050331Z
UID:10000160-1713862800-1713888000@www.thepot.se
SUMMARY:We need to talk about... Attractive Cities
DESCRIPTION:Hur designar vi städer som är vackra samtidigt som de främjar gemenskap och välbefinnande? Vad krävs för att skapa trygghet och tillit i våra urbana miljöer? Och hur blir vi en stad i framkant som människor älskar att leva i? \nGenom ”We need to talk about – Attractive Cities” öppnar vi dörren till en avgörande dialog om städernas framtid\, där arkitekter\, stadsplanerare\, beslutfattare\, centrumutvecklare och kulturaktörer möts för att forma en vision som sträcker sig långt bortom det konventionella. Vi pratar om de senaste trenderna\, om trygghet\, om platser fulla med liv\, om AI\, klimatanpassningar och innovativ hållbarhet. \nTillsammans kan vi samskapa en framtid där våra städer blir precis så attraktiva som vi drömmer om att de ska vara. \n  \nMedverkande \nInnovativa sätt att skapa mobilitet\nÅsa Kalee\nAnsvarig Strategi\, kommunikation och kunderbjudande\nHub Park \n”Boverkets nya hus”\nFredrik Löf\nAffärsutvecklare\nSkanska \nAtt bygga hållbara städer – klimatanpassningar\, skadeförebygg och trygghet\nMats Svensson\nAffärsområdeschef skador\nLF Blekinge \nVarför evenemang som en styrka i en attraktiv stad?\nKarin Karlsson\nÖvergripande projektledare Eurovision Song Contest 2024\nMalmö Stad \nSkapa levande stadskärnor\nAnders Larsson\nSenior Concept Architect\nBAS ID \nSkellefteå – en stad i stark utveckling\nHelena Renström\nExpo manager\nExpo Skellefteå 2026 \nAtt driva förändring\nMartin Güll\nVD Techseed Sustainble Change \nReflektioner kring den attraktiva staden\nEmina Kovacic\nStadsarkitekt Karlshamns kommun och ordförande Sveriges Arkitekter\nKarlshamns kommun \nStadsutveckling i framkant\nAnders Bolltoft\nAffärsutvecklare\nObos Kärnhem \nDigitaliseringens möjligheter\nPetra Jenning\nUtvecklingschef\nFojab AB \nInfrastrukturen i framtidens städer\nAnna Wallin\nVD\nAffärsverken \nVad kan man göra för att öka stadens attraktivitet – några exempel från Karlskrona.\nKristina Stark\nStadsarkitekt \nKarlskrona kommun \n  \n\n \n\nVad är ”We need to talk about…”? Vi är ett forum som lägger viktiga frågor på bordet och sätter igång dialogen mellan människor. Som ser till att vi hela tiden delar kunskap\, erfarenheter och insikter som hjälper oss att forma en framtid vi är stolta att leva i. \n\nBoka biljett! \nEvenemanget arrangeras av: \n \n 
URL:https://www.thepot.se/program/we-need-to-talk-about-attractive-cities/
LOCATION:The Pot Karlskrona\, Blekingegatan 1\, Karlskrona\, 37157\, Sverige
ATTACH;FMTTYPE=image/jpeg:https://media.thepot.se/2024/01/WeNeedToTalkAbout-AttractiveCities.jpg
END:VEVENT
BEGIN:VEVENT
DTSTART;TZID=Europe/Stockholm:20240425T160000
DTEND;TZID=Europe/Stockholm:20240425T200000
DTSTAMP:20260426T030451
CREATED:20240318T145957Z
LAST-MODIFIED:20240425T070628Z
UID:10000173-1714060800-1714075200@www.thepot.se
SUMMARY:Musikquiz\, vinylflipp\, bubbel och pizza\, afterwork at The Pot den 25/4!
DESCRIPTION:Kom och fira med oss!\nMissa inte Musikquiz med Oskar Askevik och vinylsväng med Martin Josefsson. Det ni! \nQuizet drar igång 18.00 och innan dess snurrar vi gång vinylspelaren.\nTa med dina bästisar eller dina kollegor och var med och tävla om fina priser. \nSom vanligt är det kompispriser i baren och massor av kärlek i luften.♥️\nStudenter\, glöm inte era studentlegitimationer för ännu mer kärlek i baren. \nHungrig? Beställ pizza eller charkbricka i baren!\nVärm upp med en pingismatch eller kanske en pizza 🍕 från 16.00! \nSee you there!
URL:https://www.thepot.se/program/valkomna-pa-afterwork-at-the-pot-den-25-4/
LOCATION:The Pot Karlskrona\, Blekingegatan 1\, Karlskrona\, 37157\, Sverige
ATTACH;FMTTYPE=image/jpeg:https://media.thepot.se/2024/01/1920x1080_AW_Hemsida_kl16_20.jpg
END:VEVENT
END:VCALENDAR