BEGIN:VCALENDAR
VERSION:2.0
PRODID:-//The Pot - ECPv6.15.20//NONSGML v1.0//EN
CALSCALE:GREGORIAN
METHOD:PUBLISH
X-ORIGINAL-URL:https://www.thepot.se
X-WR-CALDESC:Händelser för The Pot
REFRESH-INTERVAL;VALUE=DURATION:PT1H
X-Robots-Tag:noindex
X-PUBLISHED-TTL:PT1H
BEGIN:VTIMEZONE
TZID:Europe/Stockholm
BEGIN:DAYLIGHT
TZOFFSETFROM:+0100
TZOFFSETTO:+0200
TZNAME:CEST
DTSTART:20250330T010000
END:DAYLIGHT
BEGIN:STANDARD
TZOFFSETFROM:+0200
TZOFFSETTO:+0100
TZNAME:CET
DTSTART:20251026T010000
END:STANDARD
BEGIN:DAYLIGHT
TZOFFSETFROM:+0100
TZOFFSETTO:+0200
TZNAME:CEST
DTSTART:20260329T010000
END:DAYLIGHT
BEGIN:STANDARD
TZOFFSETFROM:+0200
TZOFFSETTO:+0100
TZNAME:CET
DTSTART:20261025T010000
END:STANDARD
BEGIN:DAYLIGHT
TZOFFSETFROM:+0100
TZOFFSETTO:+0200
TZNAME:CEST
DTSTART:20270328T010000
END:DAYLIGHT
BEGIN:STANDARD
TZOFFSETFROM:+0200
TZOFFSETTO:+0100
TZNAME:CET
DTSTART:20271031T010000
END:STANDARD
END:VTIMEZONE
BEGIN:VEVENT
DTSTART;TZID=Europe/Stockholm:20261022T193000
DTEND;TZID=Europe/Stockholm:20261022T210000
DTSTAMP:20260421T125952
CREATED:20260329T193248Z
LAST-MODIFIED:20260330T111837Z
UID:10000476-1792697400-1792702800@www.thepot.se
SUMMARY:Ludwig Hart - Unplugged
DESCRIPTION:Ludwig Hart till Karlshamn för en nära\, ärlig och akustisk spelning \nLudwig Hart har under våren varit på en akustisk turné\, och efter publikens hyllningar och den höga efterfrågan förlängs nu turnén. Den 22 oktober kommer Ludwig Hart till Karlshamn. \nDATUM OCH BILJETTER\nBiljettsläpp: 30 mars 2026\, kl. 10:00\nKonsertdatum: 22 oktober 2026\, kl. 19:30\nPlats: Navet på The Pot\, Karlshamn\nÅldersgräns: Barn under 13 år välkomna i målsmans sällskap (hörselkåpor krävs). \nLäs mer och köp biljetter här!
URL:https://www.thepot.se/program/ludwig-hart-unplugged/
LOCATION:The Pot Karlshamn\, Pirgatan 6\, Karlshamn\, 37438\, Sverige
ATTACH;FMTTYPE=image/png:https://media.thepot.se/2026/03/1920x1080_LudwigHart_pressbild.png
END:VEVENT
END:VCALENDAR