BEGIN:VCALENDAR
VERSION:2.0
PRODID:-//The Pot - ECPv6.15.20//NONSGML v1.0//EN
CALSCALE:GREGORIAN
METHOD:PUBLISH
X-WR-CALNAME:The Pot
X-ORIGINAL-URL:https://www.thepot.se
X-WR-CALDESC:Händelser för The Pot
REFRESH-INTERVAL;VALUE=DURATION:PT1H
X-Robots-Tag:noindex
X-PUBLISHED-TTL:PT1H
BEGIN:VTIMEZONE
TZID:Europe/Stockholm
BEGIN:DAYLIGHT
TZOFFSETFROM:+0100
TZOFFSETTO:+0200
TZNAME:CEST
DTSTART:20250330T010000
END:DAYLIGHT
BEGIN:STANDARD
TZOFFSETFROM:+0200
TZOFFSETTO:+0100
TZNAME:CET
DTSTART:20251026T010000
END:STANDARD
BEGIN:DAYLIGHT
TZOFFSETFROM:+0100
TZOFFSETTO:+0200
TZNAME:CEST
DTSTART:20260329T010000
END:DAYLIGHT
BEGIN:STANDARD
TZOFFSETFROM:+0200
TZOFFSETTO:+0100
TZNAME:CET
DTSTART:20261025T010000
END:STANDARD
BEGIN:DAYLIGHT
TZOFFSETFROM:+0100
TZOFFSETTO:+0200
TZNAME:CEST
DTSTART:20270328T010000
END:DAYLIGHT
BEGIN:STANDARD
TZOFFSETFROM:+0200
TZOFFSETTO:+0100
TZNAME:CET
DTSTART:20271031T010000
END:STANDARD
END:VTIMEZONE
BEGIN:VEVENT
DTSTART;TZID=Europe/Stockholm:20260423T080000
DTEND;TZID=Europe/Stockholm:20260423T084500
DTSTAMP:20260419T193851
CREATED:20260407T113251Z
LAST-MODIFIED:20260417T150423Z
UID:10000477-1776931200-1776933900@www.thepot.se
SUMMARY:Torsdags-Talk med Mona-Lisa Jespersen\, 23 april\, Karlshamn
DESCRIPTION:The Pot och Gilla Karlshamn kör talks med intressanta personer från Karlshamn. \nStarta morgonen med 20 min frukost följt av 20 min Talk.\nNätverka en stund och få en energiboost före jobbet.\nFrukost från 08:00. Talk från 08:20. Vi avslutar 08:45.\nEvenemanget är kostnadsfritt men anmälan här krävs. \nTorsdags-Gäst: Mona-Lisa Jespersen\nUppvuxen utan att veta var halva hennes identitet kommer ifrån\, har Mona-Lisa burit på en stark längtan efter svar. Genom år av sökande\, resor och DNA-spår över hela världen närmar hon sig till slut det som länge känts ouppnåeligt. Det är efter flytten tillbaka till Blekinge\, i Mörrum\, som alla bitar faller på plats. Efter 42 år hittar hon sin pappa i Grekland\, men berättelsen handlar om mer än så. Det är en historia om identitet\, mod och tillhörighet och om att våga följa sin längtan. Om att ibland hamna på en plats där det som en gång kändes omöjligt faktiskt blir möjligt. En inspirerande berättelse om att hitta hem – på fler sätt än ett. \n  \nPlats: The Pot\, Plan 4\, Östra Piren\nDatum: 23 april 2026 08:00 \n\n\n\n\n\n\n\nKostnadsfritt men anmälan krävs. Läs mer och anmälan dig här! \n\nVälkomna! \n\n\n\n 
URL:https://www.thepot.se/program/torsdags-talk-med-mona-lisa-jespersen-23-april-karlshamn/
LOCATION:The Pot Karlshamn\, Pirgatan 6\, Karlshamn\, 37438\, Sverige
ATTACH;FMTTYPE=image/png:https://media.thepot.se/2026/04/1920x1080_Torsdagstalk_MonaLisa.png
END:VEVENT
BEGIN:VEVENT
DTSTART;TZID=Europe/Stockholm:20260423T170000
DTEND;TZID=Europe/Stockholm:20260423T200000
DTSTAMP:20260419T193851
CREATED:20260414T080651Z
LAST-MODIFIED:20260414T080651Z
UID:10000479-1776963600-1776974400@www.thepot.se
SUMMARY:Pop-up AW på The Pot\, Karlskrona!
DESCRIPTION:Fira in våren med oss – Pop-up AW på The Pot!\nTorsdagen den 23 april mellan 17:00 – 20:00. Det här vill du inte missa! \n\nRelease: Våra vänner på Paraply lanserar sin sprillans nya öl\, framtagen tillsammans med Brygghus 19. Var bland de första att testa den i baren!\nPizza-bonanza: Pizzaugnen går varm hela kvällen och serverar rykande färska favoriter.\n\nTa med kollegorna eller kompisgänget och skåla in de ljusare tiderna med oss. Vi ses! \nDatum: torsdag 23/4\nTid: 17.00-20.00\nPlats: The Pot Karlskrona
URL:https://www.thepot.se/program/pop-up-aw-pa-the-pot-karlskrona/
LOCATION:The Pot Karlskrona\, Blekingegatan 1\, Karlskrona\, 37157\, Sverige
ATTACH;FMTTYPE=image/jpeg:https://media.thepot.se/2026/04/1920x1080_AW_Brygghus19_20260423_Hemsida.jpg
END:VEVENT
END:VCALENDAR